BEGIN:VCALENDAR
VERSION:2.0
PRODID:-//InvisionCommunity Events 5.0.12 Beta 2//EN
METHOD:PUBLISH
CALSCALE:GREGORIAN
REFRESH-INTERVAL:PT15M
X-PUBLISHED-TTL:PT15M
X-WR-CALNAME:Akce
NAME:Akce
BEGIN:VTIMEZONE
TZID:Europe/London
TZURL:https://tzurl.org/zoneinfo/Europe/London
X-LIC-LOCATION:Europe/London
BEGIN:DAYLIGHT
TZOFFSETFROM:+0000
TZOFFSETTO:+0100
TZNAME:BST
DTSTART:20110327T020000Z
RRULE:FREQ=YEARLY;BYMONTH=3;BYDAY=-1SU
END:DAYLIGHT
BEGIN:STANDARD
TZOFFSETFROM:+0100
TZOFFSETTO:+0000
TZNAME:GMT
DTSTART:20111030T020000Z
RRULE:FREQ=YEARLY;BYMONTH=10;BYDAY=-1SU
END:STANDARD
END:VTIMEZONE
BEGIN:VEVENT
SUMMARY:Setkání s biotronikem
DTSTAMP:20110811T090545Z
SEQUENCE:2
UID:1-1-fa396657be6d70d2f2579beea8469132@www.veg.cz
ORGANIZER;CN="Martin":info@veg.cz
DESCRIPTION:\nTomáš Pfeiffer - Setkání s biotronikem\n\n \n\n09:30  
	  KARLOVY VARY\, Alžbětiny lázně V.\, Smetanovy sady 1145/1\n\n13.30  
	  PLZEŇ\, Areál učilišť\, Karlovarská 99 - Lochotín\n\n16.30    KLA
	TOVY\, Městská knihovna\, Pod Černou věží\n\n \n\nZveme vás na sp
	olečné zamyšlení nad otázkami a záhadami života. Témata předn
	ášek určují návštěvníci sami\, a to svými dotazy. Tyto se mohou 
	týkat velmi rozmanitých oblastí života\, jako je biotronická prevence
	\, filosofie a jiné. Okruh otázek\, které se v Univerzitě Bytí objev
	í\, je tedy nesmírně široký. Jsou to otázky osudu\, smyslu života\,
	 nauka o vznikání\, celkově otázky filosofie Bytí\, a to i s dopady d
	o hmotných oborů. Vstupné je dobrovolné. Na závěr přednášek prob
	ěhne biotronické působení formou rozloučení.\n\n \n\nPoslední aktua
	lizace termínů: 15. 7. 2011\n\nZměna programu vyhrazena.\n\nInformace n
	a tel.: 222 311 141 \n\ntermíny - nonstop tel.: 222 318 725 \n\ne-mail: i
	nfo@dub.cz \n
DTSTART:20110917T073000Z
END:VEVENT
END:VCALENDAR
