BEGIN:VCALENDAR
VERSION:2.0
PRODID:-//InvisionCommunity Events 5.0.12 Beta 2//EN
METHOD:PUBLISH
CALSCALE:GREGORIAN
REFRESH-INTERVAL:PT15M
X-PUBLISHED-TTL:PT15M
X-WR-CALNAME:Akce
NAME:Akce
BEGIN:VTIMEZONE
TZID:Europe/London
TZURL:https://tzurl.org/zoneinfo/Europe/London
X-LIC-LOCATION:Europe/London
BEGIN:DAYLIGHT
TZOFFSETFROM:+0000
TZOFFSETTO:+0100
TZNAME:BST
DTSTART:20110327T020000Z
RRULE:FREQ=YEARLY;BYMONTH=3;BYDAY=-1SU
END:DAYLIGHT
BEGIN:STANDARD
TZOFFSETFROM:+0100
TZOFFSETTO:+0000
TZNAME:GMT
DTSTART:20111030T020000Z
RRULE:FREQ=YEARLY;BYMONTH=10;BYDAY=-1SU
END:STANDARD
END:VTIMEZONE
BEGIN:VEVENT
SUMMARY:Setkání s biotronikem
DTSTAMP:20110812T091506Z
SEQUENCE:0
UID:11-1-fa396657be6d70d2f2579beea8469132@www.veg.cz
ORGANIZER;CN="Martin":info@veg.cz
DESCRIPTION:\nTomáš Pfeiffer - Setkání s biotronikem\n\n\n\n09:00   
	 PROSTEJOV\, Spolecenský dum\, Komenského 6\, (bývalé Kulturní a spol
	ecenské centrum)\n\n\n\n14.45    BRNO\, Bílý dum\, Žerotínovo nám. 6
	\n\n17.00    JIHLAVA\, Základní škola\, Krížová 33\n\n\n\nZveme vás
	 na společné zamyšlení nad otázkami a záhadami života. Témata p
	řednášek určují návštěvníci sami\, a to svými dotazy. Tyto se m
	ohou týkat velmi rozmanitých oblastí života\, jako je biotronická pre
	vence\, filosofie a jiné. Okruh otázek\, které se v Univerzitě Bytí 
	objeví\, je tedy nesmírně široký. Jsou to otázky osudu\, smyslu živ
	ota\, nauka o vznikání\, celkově otázky filosofie Bytí\, a to i s dop
	ady do hmotných oborů. Vstupné je dobrovolné. Na závěr přednášek
	 proběhne biotronické působení formou rozloučení.\n\n\n\nPoslední a
	ktualizace termínů: 15. 7. 2011\n\nZměna programu vyhrazena.\n\nInforma
	ce na tel.: 222 311 141 \n\ntermíny - nonstop tel.: 222 318 725 \n\ne-mai
	l: info@dub.cz\n
DTSTART:20111009T070000Z
END:VEVENT
END:VCALENDAR
