BEGIN:VCALENDAR
VERSION:2.0
PRODID:-//InvisionCommunity Events 5.0.12 Beta 2//EN
METHOD:PUBLISH
CALSCALE:GREGORIAN
REFRESH-INTERVAL:PT15M
X-PUBLISHED-TTL:PT15M
X-WR-CALNAME:Akce
NAME:Akce
BEGIN:VTIMEZONE
TZID:Europe/London
TZURL:https://tzurl.org/zoneinfo/Europe/London
X-LIC-LOCATION:Europe/London
BEGIN:DAYLIGHT
TZOFFSETFROM:+0000
TZOFFSETTO:+0100
TZNAME:BST
DTSTART:20120325T020000Z
RRULE:FREQ=YEARLY;BYMONTH=3;BYDAY=-1SU
END:DAYLIGHT
BEGIN:STANDARD
TZOFFSETFROM:+0100
TZOFFSETTO:+0000
TZNAME:GMT
DTSTART:20121028T020000Z
RRULE:FREQ=YEARLY;BYMONTH=10;BYDAY=-1SU
END:STANDARD
END:VTIMEZONE
BEGIN:VEVENT
SUMMARY:Jablonec - Setkání s biotronikem
DTSTAMP:20120818T173237Z
SEQUENCE:0
UID:122-1-fa396657be6d70d2f2579beea8469132@www.veg.cz
ORGANIZER;CN="Martin":info@veg.cz
DESCRIPTION:\nJABLONEC N. NISOU\, Centrum sociálních služeb\, Emilie 
	Floriánové 8\n\n\n\nTomáš Pfeiffer - Setkání s biotronikem\n\n\n\nZ
	veme vás na společné zamyšlení nad otázkami a záhadami života.\n\
	n\n\nTémata přednášek určují návštěvníci sami\, a to svými dota
	zy. Tyto se mohou týkat velmi rozmanitých oblastí života\, jako je bio
	tronická prevence\, filosofie a jiné. Okruh otázek\, které se v Unive
	rzitě Bytí objeví\, je tedy nesmírně široký. Jsou to otázky osudu\
	, smyslu života\, nauka o vznikání\, celkově otázky filosofie Bytí\,
	 a to i s dopady do hmotných oborů. Vstupné je dobrovolné. Na závě
	r přednášek proběhne biotronické působení formou rozloučení.\n\n\
	n\nhttp://www.dub.cz/cs/prednasky-tomase-pfeiffera.php\n
DTSTART:20120911T150000Z
END:VEVENT
END:VCALENDAR
