BEGIN:VCALENDAR
VERSION:2.0
PRODID:-//InvisionCommunity Events 5.0.12 Beta 2//EN
METHOD:PUBLISH
CALSCALE:GREGORIAN
REFRESH-INTERVAL:PT15M
X-PUBLISHED-TTL:PT15M
X-WR-CALNAME:Akce
NAME:Akce
BEGIN:VTIMEZONE
TZID:Europe/London
TZURL:https://tzurl.org/zoneinfo/Europe/London
X-LIC-LOCATION:Europe/London
BEGIN:DAYLIGHT
TZOFFSETFROM:+0000
TZOFFSETTO:+0100
TZNAME:BST
DTSTART:20150329T020000Z
RRULE:FREQ=YEARLY;BYMONTH=3;BYDAY=-1SU
END:DAYLIGHT
BEGIN:STANDARD
TZOFFSETFROM:+0100
TZOFFSETTO:+0000
TZNAME:GMT
DTSTART:20151025T020000Z
RRULE:FREQ=YEARLY;BYMONTH=10;BYDAY=-1SU
END:STANDARD
END:VTIMEZONE
BEGIN:VEVENT
SUMMARY:Světový den vegetariánství
DTSTAMP:20150523T114326Z
SEQUENCE:0
UID:127-1-fa396657be6d70d2f2579beea8469132@www.veg.cz
ORGANIZER;CN="Martin":info@veg.cz
DESCRIPTION:Světový vegetariánský den se každoročně připomí
	ná 1. října. Byl stanoven v roce 1977 Vegetariánskou společností S
	everní Ameriky a potvrzen byl Mezinárodní vegetariánskou unití IVU v 
	roce 1978. \"Svátek má za cíl podporovat radost\, soucítění a bla
	hodárné účinky vegetariánství\" Přináší povědomí o etickém\,
	 zdravotním\, humanitárním přínosu vegetariánství\, stejně jak
	o jeho přínosu pro životní přestředí.
DTSTART;VALUE=DATE:20151001
ATTENDEE;CN="Martin";CUTYPE=INDIVIDUAL;PARTSTAT=ACCEPTED:inf
	o@veg.cz
END:VEVENT
END:VCALENDAR
