BEGIN:VCALENDAR
VERSION:2.0
PRODID:-//InvisionCommunity Events 5.0.12 Beta 2//EN
METHOD:PUBLISH
CALSCALE:GREGORIAN
REFRESH-INTERVAL:PT15M
X-PUBLISHED-TTL:PT15M
X-WR-CALNAME:Akce
NAME:Akce
BEGIN:VTIMEZONE
TZID:Europe/London
TZURL:https://tzurl.org/zoneinfo/Europe/London
X-LIC-LOCATION:Europe/London
BEGIN:DAYLIGHT
TZOFFSETFROM:+0000
TZOFFSETTO:+0100
TZNAME:BST
DTSTART:20150329T020000Z
RRULE:FREQ=YEARLY;BYMONTH=3;BYDAY=-1SU
END:DAYLIGHT
BEGIN:STANDARD
TZOFFSETFROM:+0100
TZOFFSETTO:+0000
TZNAME:GMT
DTSTART:20151025T020000Z
RRULE:FREQ=YEARLY;BYMONTH=10;BYDAY=-1SU
END:STANDARD
END:VTIMEZONE
BEGIN:VEVENT
SUMMARY:Vegetariánský festival
DTSTAMP:20150731T083938Z
SEQUENCE:0
UID:128-1-fa396657be6d70d2f2579beea8469132@www.veg.cz
ORGANIZER;CN="Martin":info@veg.cz
DESCRIPTION:\n'Milí přátelé\,\n\nvítáme Vás na stránkách Vege
	tariánského festivalu\, jehož 5. ročník se uskuteční o víkendu 2
	6. – 27. září 2015 v Praze na Vyšehradě. Festival je určen pro vš
	echny\,\n\nkterým je blízký zdravý a udržitelný životní styl\nkt
	eří hledají změnu či inspiraci ve stravování\nkteří cítí\, že
	 je čas na změnu v našem přístupu ke zdrojům\nkteří chtějí žít
	 v radosti a vděčnosti a společně to oslavit\na všechny ostatní\n
	\nTěšíme se na setkání\,\n\nHonza &amp\; Tereza Dlabalovi &amp\; tým
	 festivalu'\n \n\n
DTSTART;VALUE=DATE:20150926
END:VEVENT
END:VCALENDAR
