BEGIN:VCALENDAR
VERSION:2.0
PRODID:-//InvisionCommunity Events 5.0.12 Beta 2//EN
METHOD:PUBLISH
CALSCALE:GREGORIAN
REFRESH-INTERVAL:PT15M
X-PUBLISHED-TTL:PT15M
X-WR-CALNAME:Akce
NAME:Akce
BEGIN:VTIMEZONE
TZID:Europe/London
TZURL:https://tzurl.org/zoneinfo/Europe/London
X-LIC-LOCATION:Europe/London
BEGIN:DAYLIGHT
TZOFFSETFROM:+0000
TZOFFSETTO:+0100
TZNAME:BST
DTSTART:20160327T020000Z
RRULE:FREQ=YEARLY;BYMONTH=3;BYDAY=-1SU
END:DAYLIGHT
BEGIN:STANDARD
TZOFFSETFROM:+0100
TZOFFSETTO:+0000
TZNAME:GMT
DTSTART:20161030T020000Z
RRULE:FREQ=YEARLY;BYMONTH=10;BYDAY=-1SU
END:STANDARD
END:VTIMEZONE
BEGIN:VEVENT
SUMMARY:Brno - Koncert Vodnářský zvon - Společná věc
DTSTAMP:20161021T060850Z
SEQUENCE:0
UID:129-1-fa396657be6d70d2f2579beea8469132@www.veg.cz
ORGANIZER;CN="Martin":info@veg.cz
DESCRIPTION:\n\n	Láska k pravdě – filosofie\, má mnoho podob. Jedn
	ou slova – jindy prožití. Vždyť je to jen jeden svět\, který poz
	náváme. Filosofie může mít i podobu rezonance – tónů. V našem k
	oncertu se vám snaží\, takto nesměle\, podat ruku s tichou otázko
	u: „Věnuješ mi kousek srdce\, pozornosti\, citu\, vědomí?“ Vžd
	yť společná věc není jen slovo. Mystérium dávných filosofů při
	chází takto nyní i k nám.\n\n\n\n	19.11.  sobota  19:00   BR
	NO\, Besední dům\, Komenského nám. 8 Vstupenky   \n\n\n\n	jako 
	hosté vystoupí: Panochovo kvarteto\, sopranistka Maida Hundeling\, violo
	ncellista Jiří Bárta\n\n	předprodej vstupenek: TICKET ART PRAHA\, s.r.
	o.\, prodejní místa sítě TICKET ART po celé ČR\,tel.: 222 897 33
	3\, rezervace@ticket-art.cz\, Turistické informační centrum\, Radnick
	á 2\, Brno\,tel.: 420 542 210 863\, www.vstupenky.ticbrno.cz \, Info
	: 603723713\n\n\n\n	Zdroj: http://www.dub.cz/cs/koncerty-vodnarsky-zvon-
	spolecna-vec.php\n\n
DTSTART;VALUE=DATE:20161119
END:VEVENT
END:VCALENDAR
