BEGIN:VCALENDAR
VERSION:2.0
PRODID:-//InvisionCommunity Events 5.0.12 Beta 2//EN
METHOD:PUBLISH
CALSCALE:GREGORIAN
REFRESH-INTERVAL:PT15M
X-PUBLISHED-TTL:PT15M
X-WR-CALNAME:Akce
NAME:Akce
BEGIN:VTIMEZONE
TZID:Europe/London
TZURL:https://tzurl.org/zoneinfo/Europe/London
X-LIC-LOCATION:Europe/London
BEGIN:DAYLIGHT
TZOFFSETFROM:+0000
TZOFFSETTO:+0100
TZNAME:BST
DTSTART:20250330T020000Z
RRULE:FREQ=YEARLY;BYMONTH=3;BYDAY=-1SU
END:DAYLIGHT
BEGIN:STANDARD
TZOFFSETFROM:+0100
TZOFFSETTO:+0000
TZNAME:GMT
DTSTART:20251026T020000Z
RRULE:FREQ=YEARLY;BYMONTH=10;BYDAY=-1SU
END:STANDARD
END:VTIMEZONE
BEGIN:VEVENT
SUMMARY:Světový den vegetariánství
DTSTAMP:20250212T200034Z
SEQUENCE:0
UID:132-1-fa396657be6d70d2f2579beea8469132@www.veg.cz
ORGANIZER;CN="Martin":info@veg.cz
DESCRIPTION:Světový den vegetariánství se každoročně slaví na c
	elé planetě 1. října. Je to den oslav založený Severoamerickou vege
	tariánskou společností v roce 1977 a schválený Mezinárodní vegetar
	iánskou unií v roce 1978\, \"Propagovat radost\, soucit a možnosti vege
	tariánství pro zlepšení života.\" Přináší povědomí o etických\
	, environmentálních\, zdravotních a humanitárních výhodách vegeta
	riánského životního stylu. Světový den vegetariánů zahajuje mě
	síc říjen jako měsíc vegetariánského povědomí\, který končí 1.
	 listopadem\, Světovým dnem veganství\, jako konec tohoto měsíce osl
	av. Měsíc vegetariánského povědomí je známý různě jako měs
	íc „úcty k životu“\, „měsíc vegetariánské stravy“ a další
	.Zdroj: Wikipedia
DTSTART;VALUE=DATE:20251001
RRULE:FREQ=YEARLY;INTERVAL=1
END:VEVENT
END:VCALENDAR
