BEGIN:VCALENDAR
VERSION:2.0
PRODID:-//InvisionCommunity Events 5.0.12 Beta 2//EN
METHOD:PUBLISH
CALSCALE:GREGORIAN
REFRESH-INTERVAL:PT15M
X-PUBLISHED-TTL:PT15M
X-WR-CALNAME:Akce
NAME:Akce
BEGIN:VTIMEZONE
TZID:Europe/London
TZURL:https://tzurl.org/zoneinfo/Europe/London
X-LIC-LOCATION:Europe/London
BEGIN:DAYLIGHT
TZOFFSETFROM:+0000
TZOFFSETTO:+0100
TZNAME:BST
DTSTART:20110327T020000Z
RRULE:FREQ=YEARLY;BYMONTH=3;BYDAY=-1SU
END:DAYLIGHT
BEGIN:STANDARD
TZOFFSETFROM:+0100
TZOFFSETTO:+0000
TZNAME:GMT
DTSTART:20111030T020000Z
RRULE:FREQ=YEARLY;BYMONTH=10;BYDAY=-1SU
END:STANDARD
END:VTIMEZONE
BEGIN:VEVENT
SUMMARY:Setkání s biotronikem
DTSTAMP:20110812T092131Z
SEQUENCE:0
UID:16-1-fa396657be6d70d2f2579beea8469132@www.veg.cz
ORGANIZER;CN="Martin":info@veg.cz
DESCRIPTION:\nTomáš Pfeiffer - Setkání s biotronikem\n\n\n\n\n\n09.3
	0   JINDRICHUV HRADEC\, Gymnázium V. Nováka\, Husova 333/II.\n\n13.00   
	TREBON\, v budove Gymnázia\, Na Sadech\n\n15.00   CESKÉ BUDEJOVICE\, Hot
	el SAVOY\, B. Smetany 1\n\n\n\nZveme vás na společné zamyšlení nad o
	tázkami a záhadami života. Témata přednášek určují návštěvníc
	i sami\, a to svými dotazy. Tyto se mohou týkat velmi rozmanitých obla
	stí života\, jako je biotronická prevence\, filosofie a jiné. Okruh o
	tázek\, které se v Univerzitě Bytí objeví\, je tedy nesmírně širo
	ký. Jsou to otázky osudu\, smyslu života\, nauka o vznikání\, celko
	vě otázky filosofie Bytí\, a to i s dopady do hmotných oborů. Vstupn
	é je dobrovolné. Na závěr přednášek proběhne biotronické působe
	ní formou rozloučení.\n\n\n\nPoslední aktualizace termínů: 15. 7. 20
	11\n\nZměna programu vyhrazena.\n\nInformace na tel.: 222 311 141 \n\nter
	míny - nonstop tel.: 222 318 725 \n\ne-mail: info@dub.cz\n
DTSTART:20111016T063000Z
END:VEVENT
END:VCALENDAR
