BEGIN:VCALENDAR
VERSION:2.0
PRODID:-//InvisionCommunity Events 5.0.12 Beta 2//EN
METHOD:PUBLISH
CALSCALE:GREGORIAN
REFRESH-INTERVAL:PT15M
X-PUBLISHED-TTL:PT15M
X-WR-CALNAME:Akce
NAME:Akce
BEGIN:VTIMEZONE
TZID:Europe/London
TZURL:https://tzurl.org/zoneinfo/Europe/London
X-LIC-LOCATION:Europe/London
BEGIN:DAYLIGHT
TZOFFSETFROM:+0000
TZOFFSETTO:+0100
TZNAME:BST
DTSTART:20110327T020000Z
RRULE:FREQ=YEARLY;BYMONTH=3;BYDAY=-1SU
END:DAYLIGHT
BEGIN:STANDARD
TZOFFSETFROM:+0100
TZOFFSETTO:+0000
TZNAME:GMT
DTSTART:20111030T020000Z
RRULE:FREQ=YEARLY;BYMONTH=10;BYDAY=-1SU
END:STANDARD
END:VTIMEZONE
BEGIN:VEVENT
SUMMARY:Setkání s biotronikem
DTSTAMP:20110812T092211Z
SEQUENCE:0
UID:17-1-fa396657be6d70d2f2579beea8469132@www.veg.cz
ORGANIZER;CN="Martin":info@veg.cz
DESCRIPTION:\nTomáš Pfeiffer - Setkání s biotronikem\n\n\n\n17:00 PR
	AHA\, Soukenická 21\n\n\n\nZveme vás na společné zamyšlení nad otáz
	kami a záhadami života. Témata přednášek určují návštěvníci sa
	mi\, a to svými dotazy. Tyto se mohou týkat velmi rozmanitých oblastí
	 života\, jako je biotronická prevence\, filosofie a jiné. Okruh otáze
	k\, které se v Univerzitě Bytí objeví\, je tedy nesmírně široký. J
	sou to otázky osudu\, smyslu života\, nauka o vznikání\, celkově otá
	zky filosofie Bytí\, a to i s dopady do hmotných oborů. Vstupné je dob
	rovolné. Na závěr přednášek proběhne biotronické působení formo
	u rozloučení.\n\n\n\nPoslední aktualizace termínů: 15. 7. 2011\n\nZm
	ěna programu vyhrazena.\n\nInformace na tel.: 222 311 141 \n\ntermíny - 
	nonstop tel.: 222 318 725 \n\ne-mail: info@dub.cz\n
DTSTART:20111021T140000Z
END:VEVENT
END:VCALENDAR
