BEGIN:VCALENDAR
VERSION:2.0
PRODID:-//InvisionCommunity Events 5.0.12 Beta 2//EN
METHOD:PUBLISH
CALSCALE:GREGORIAN
REFRESH-INTERVAL:PT15M
X-PUBLISHED-TTL:PT15M
X-WR-CALNAME:Akce
NAME:Akce
BEGIN:VTIMEZONE
TZID:Europe/London
TZURL:https://tzurl.org/zoneinfo/Europe/London
X-LIC-LOCATION:Europe/London
BEGIN:DAYLIGHT
TZOFFSETFROM:+0000
TZOFFSETTO:+0100
TZNAME:BST
DTSTART:20110327T020000Z
RRULE:FREQ=YEARLY;BYMONTH=3;BYDAY=-1SU
END:DAYLIGHT
BEGIN:STANDARD
TZOFFSETFROM:+0100
TZOFFSETTO:+0000
TZNAME:GMT
DTSTART:20111030T020000Z
RRULE:FREQ=YEARLY;BYMONTH=10;BYDAY=-1SU
END:STANDARD
END:VTIMEZONE
BEGIN:VEVENT
SUMMARY:Setkání s biotronikem
DTSTAMP:20110812T092337Z
SEQUENCE:0
UID:18-1-fa396657be6d70d2f2579beea8469132@www.veg.cz
ORGANIZER;CN="Martin":info@veg.cz
DESCRIPTION:\nTomáš Pfeiffer - Setkání s biotronikem\n\n\n\n\n\n09.3
	0   OSTRAVA - MORAVSKÁ OSTRAVA\, Centrum Harmonie\, Na jízdárne 18\n\n1
	4.00   FRÝDEK-MÍSTEK\, Základní umelecká škola\, Hlavní trída 11\n
	\n17.00   HULÍN\, Kulturní Klub\, Trebízského 194\n\n\n\nZveme vás na
	 společné zamyšlení nad otázkami a záhadami života. Témata pře
	dnášek určují návštěvníci sami\, a to svými dotazy. Tyto se moho
	u týkat velmi rozmanitých oblastí života\, jako je biotronická preven
	ce\, filosofie a jiné. Okruh otázek\, které se v Univerzitě Bytí obj
	eví\, je tedy nesmírně široký. Jsou to otázky osudu\, smyslu života
	\, nauka o vznikání\, celkově otázky filosofie Bytí\, a to i s dopady
	 do hmotných oborů. Vstupné je dobrovolné. Na závěr přednášek pr
	oběhne biotronické působení formou rozloučení.\n\n\n\nPoslední aktu
	alizace termínů: 15. 7. 2011\n\nZměna programu vyhrazena.\n\nInformace 
	na tel.: 222 311 141 \n\ntermíny - nonstop tel.: 222 318 725 \n\ne-mail: 
	info@dub.cz\n
DTSTART:20111022T063000Z
END:VEVENT
END:VCALENDAR
