BEGIN:VCALENDAR
VERSION:2.0
PRODID:-//InvisionCommunity Events 5.0.12 Beta 2//EN
METHOD:PUBLISH
CALSCALE:GREGORIAN
REFRESH-INTERVAL:PT15M
X-PUBLISHED-TTL:PT15M
X-WR-CALNAME:Akce
NAME:Akce
BEGIN:VTIMEZONE
TZID:Europe/London
TZURL:https://tzurl.org/zoneinfo/Europe/London
X-LIC-LOCATION:Europe/London
BEGIN:DAYLIGHT
TZOFFSETFROM:+0000
TZOFFSETTO:+0100
TZNAME:BST
DTSTART:20110327T020000Z
RRULE:FREQ=YEARLY;BYMONTH=3;BYDAY=-1SU
END:DAYLIGHT
BEGIN:STANDARD
TZOFFSETFROM:+0100
TZOFFSETTO:+0000
TZNAME:GMT
DTSTART:20111030T020000Z
RRULE:FREQ=YEARLY;BYMONTH=10;BYDAY=-1SU
END:STANDARD
END:VTIMEZONE
BEGIN:VEVENT
SUMMARY:Setkání s biotronikem
DTSTAMP:20110812T092424Z
SEQUENCE:2
UID:19-1-fa396657be6d70d2f2579beea8469132@www.veg.cz
ORGANIZER;CN="Martin":info@veg.cz
DESCRIPTION:\nTomáš Pfeiffer - Setkání s biotronikem\n\n \n\n09.00  
	  ZLÍN\, budova CTP REAL (bývalý Centroprojekt)\, Štefánikova 167\, (
	za kostelem)\n\n14.45    BRNO\, Bílý dum\, Žerotínovo nám. 6\n\n17.00
	    TIŠNOV\, Mestské kulturní stredisko\, Mlýnská 152\n\n \n\n \n\nZv
	eme vás na společné zamyšlení nad otázkami a záhadami života. Té
	mata přednášek určují návštěvníci sami\, a to svými dotazy. Tyto
	 se mohou týkat velmi rozmanitých oblastí života\, jako je biotronick
	á prevence\, filosofie a jiné. Okruh otázek\, které se v Univerzitě 
	Bytí objeví\, je tedy nesmírně široký. Jsou to otázky osudu\, smys
	lu života\, nauka o vznikání\, celkově otázky filosofie Bytí\, a to 
	i s dopady do hmotných oborů. Vstupné je dobrovolné. Na závěr pře
	dnášek proběhne biotronické působení formou rozloučení.\n\n \n\nP
	oslední aktualizace termínů: 15. 7. 2011\n\nZměna programu vyhrazena.\
	n\nInformace na tel.: 222 311 141 \n\ntermíny - nonstop tel.: 222 318 725
	 \n\ne-mail: info@dub.cz\n
DTSTART:20111023T060000Z
END:VEVENT
END:VCALENDAR
