BEGIN:VCALENDAR
VERSION:2.0
PRODID:-//InvisionCommunity Events 5.0.12 Beta 2//EN
METHOD:PUBLISH
CALSCALE:GREGORIAN
REFRESH-INTERVAL:PT15M
X-PUBLISHED-TTL:PT15M
X-WR-CALNAME:Akce
NAME:Akce
BEGIN:VTIMEZONE
TZID:Europe/London
TZURL:https://tzurl.org/zoneinfo/Europe/London
X-LIC-LOCATION:Europe/London
BEGIN:DAYLIGHT
TZOFFSETFROM:+0000
TZOFFSETTO:+0100
TZNAME:BST
DTSTART:20110327T020000Z
RRULE:FREQ=YEARLY;BYMONTH=3;BYDAY=-1SU
END:DAYLIGHT
BEGIN:STANDARD
TZOFFSETFROM:+0100
TZOFFSETTO:+0000
TZNAME:GMT
DTSTART:20111030T020000Z
RRULE:FREQ=YEARLY;BYMONTH=10;BYDAY=-1SU
END:STANDARD
END:VTIMEZONE
BEGIN:VEVENT
SUMMARY:Setkání s biotronikem
DTSTAMP:20110811T165401Z
SEQUENCE:2
UID:2-1-fa396657be6d70d2f2579beea8469132@www.veg.cz
ORGANIZER;CN="Martin":info@veg.cz
DESCRIPTION:\nTomáš Pfeiffer - Setkání s biotronikem\n\n \n\n09.30  
	  JINDŘICHŮV HRADEC\, Gymnázium V. Nováka\, Husova 333/II.\n\n13.00  
	  TŘEBOŇ\, v budově Gymnázia\, Na Sadech\n\n15.00    ČESKÉ BUDĚJOVI
	CE\, Hotel SAVOY\, B. Smetany 1\n\n \n\nZveme vás na společné zamyšle
	ní nad otázkami a záhadami života. Témata přednášek určují n
	ávštěvníci sami\, a to svými dotazy. Tyto se mohou týkat velmi rozm
	anitých oblastí života\, jako je biotronická prevence\, filosofie a j
	iné. Okruh otázek\, které se v Univerzitě Bytí objeví\, je tedy n
	esmírně široký. Jsou to otázky osudu\, smyslu života\, nauka o vzn
	ikání\, celkově otázky filosofie Bytí\, a to i s dopady do hmotných
	 oborů. Vstupné je dobrovolné. Na závěr přednášek proběhne biot
	ronické působení formou rozloučení.\n\n \n\nPoslední aktualizace t
	ermínů: 15. 7. 2011\n\nZměna programu vyhrazena.\n\nInformace na tel.: 
	222 311 141 \n\ntermíny - nonstop tel.: 222 318 725 \n\ne-mail: info@dub.
	cz\n
DTSTART:20110918T073000Z
END:VEVENT
END:VCALENDAR
