BEGIN:VCALENDAR
VERSION:2.0
PRODID:-//InvisionCommunity Events 5.0.12 Beta 2//EN
METHOD:PUBLISH
CALSCALE:GREGORIAN
REFRESH-INTERVAL:PT15M
X-PUBLISHED-TTL:PT15M
X-WR-CALNAME:Akce
NAME:Akce
BEGIN:VTIMEZONE
TZID:Europe/London
TZURL:https://tzurl.org/zoneinfo/Europe/London
X-LIC-LOCATION:Europe/London
BEGIN:DAYLIGHT
TZOFFSETFROM:+0000
TZOFFSETTO:+0100
TZNAME:BST
DTSTART:20110327T020000Z
RRULE:FREQ=YEARLY;BYMONTH=3;BYDAY=-1SU
END:DAYLIGHT
BEGIN:STANDARD
TZOFFSETFROM:+0100
TZOFFSETTO:+0000
TZNAME:GMT
DTSTART:20111030T020000Z
RRULE:FREQ=YEARLY;BYMONTH=10;BYDAY=-1SU
END:STANDARD
END:VTIMEZONE
BEGIN:VEVENT
SUMMARY:Setkání s biotronikem
DTSTAMP:20110812T201305Z
SEQUENCE:0
UID:34-1-fa396657be6d70d2f2579beea8469132@www.veg.cz
ORGANIZER;CN="Martin":info@veg.cz
DESCRIPTION:\nTomáš Pfeiffer - Setkání s biotronikem\n\n\n\n\n\n09.3
	0    JINDRICHUV HRADEC\, Gymnázium V. Nováka\, Husova 333/II.\n\n13.00  
	  TREBON\, v budove Gymnázia\, Na Sadech\n\n15.00    CESKÉ BUDEJOVICE\, 
	Hotel SAVOY\, B. Smetany 1\n\n\n\nZveme vás na společné zamyšlení na
	d otázkami a záhadami života. Témata přednášek určují návštěv
	níci sami\, a to svými dotazy. Tyto se mohou týkat velmi rozmanitých o
	blastí života\, jako je biotronická prevence\, filosofie a jiné. Okru
	h otázek\, které se v Univerzitě Bytí objeví\, je tedy nesmírně š
	iroký. Jsou to otázky osudu\, smyslu života\, nauka o vznikání\, cel
	kově otázky filosofie Bytí\, a to i s dopady do hmotných oborů. Vstu
	pné je dobrovolné. Na závěr přednášek proběhne biotronické půso
	bení formou rozloučení.\n\n\n\nPoslední aktualizace termínů: 15. 7. 
	2011\n\nZměna programu vyhrazena.\n\nInformace na tel.: 222 311 141 \n\nt
	ermíny - nonstop tel.: 222 318 725 \n\ne-mail: info@dub.cz\n
DTSTART:20111127T063000Z
END:VEVENT
END:VCALENDAR
