BEGIN:VCALENDAR
VERSION:2.0
PRODID:-//InvisionCommunity Events 5.0.12 Beta 2//EN
METHOD:PUBLISH
CALSCALE:GREGORIAN
REFRESH-INTERVAL:PT15M
X-PUBLISHED-TTL:PT15M
X-WR-CALNAME:Akce
NAME:Akce
BEGIN:VTIMEZONE
TZID:Europe/London
TZURL:https://tzurl.org/zoneinfo/Europe/London
X-LIC-LOCATION:Europe/London
BEGIN:DAYLIGHT
TZOFFSETFROM:+0000
TZOFFSETTO:+0100
TZNAME:BST
DTSTART:20110327T020000Z
RRULE:FREQ=YEARLY;BYMONTH=3;BYDAY=-1SU
END:DAYLIGHT
BEGIN:STANDARD
TZOFFSETFROM:+0100
TZOFFSETTO:+0000
TZNAME:GMT
DTSTART:20111030T020000Z
RRULE:FREQ=YEARLY;BYMONTH=10;BYDAY=-1SU
END:STANDARD
END:VTIMEZONE
BEGIN:VEVENT
SUMMARY:Setkání s biotronikem
DTSTAMP:20110812T202748Z
SEQUENCE:0
UID:36-1-fa396657be6d70d2f2579beea8469132@www.veg.cz
ORGANIZER;CN="Martin":info@veg.cz
DESCRIPTION:\nTomáš Pfeiffer - Setkání s biotronikem\n\n\n\n\n\n09.0
	0    KROMERÍŽ\, Muzeum\, Velké nám. 38\n\n13.00    VYŠKOV\, Besední 
	dum - 2.patro\, Jana Šoupala 4\n\n15.00    OLOMOUC\, Vlastivedné Muzeum\
	, nám. Republiky 5\n\n17.00    VALAŠSKÉ MEZIRÍCÍ\, Gymnázium\, Husov
	a ul.\n\nZveme vás na společné zamyšlení nad otázkami a záhadami ž
	ivota. Témata přednášek určují návštěvníci sami\, a to svými do
	tazy. Tyto se mohou týkat velmi rozmanitých oblastí života\, jako je b
	iotronická prevence\, filosofie a jiné. Okruh otázek\, které se v Univ
	erzitě Bytí objeví\, je tedy nesmírně široký. Jsou to otázky osudu
	\, smyslu života\, nauka o vznikání\, celkově otázky filosofie Bytí\
	, a to i s dopady do hmotných oborů. Vstupné je dobrovolné. Na závě
	r přednášek proběhne biotronické působení formou rozloučení.\n\n\
	n\nPoslední aktualizace termínů: 15. 7. 2011\n\nZměna programu vyhraze
	na.\n\nInformace na tel.: 222 311 141 \n\ntermíny - nonstop tel.: 222 318
	 725 \n\ne-mail: info@dub.cz\n
DTSTART:20111203T070000Z
END:VEVENT
END:VCALENDAR
