BEGIN:VCALENDAR
VERSION:2.0
PRODID:-//InvisionCommunity Events 5.0.12 Beta 2//EN
METHOD:PUBLISH
CALSCALE:GREGORIAN
REFRESH-INTERVAL:PT15M
X-PUBLISHED-TTL:PT15M
X-WR-CALNAME:Akce
NAME:Akce
BEGIN:VTIMEZONE
TZID:Europe/London
TZURL:https://tzurl.org/zoneinfo/Europe/London
X-LIC-LOCATION:Europe/London
BEGIN:DAYLIGHT
TZOFFSETFROM:+0000
TZOFFSETTO:+0100
TZNAME:BST
DTSTART:20120325T020000Z
RRULE:FREQ=YEARLY;BYMONTH=3;BYDAY=-1SU
END:DAYLIGHT
BEGIN:STANDARD
TZOFFSETFROM:+0100
TZOFFSETTO:+0000
TZNAME:GMT
DTSTART:20121028T020000Z
RRULE:FREQ=YEARLY;BYMONTH=10;BYDAY=-1SU
END:STANDARD
END:VTIMEZONE
BEGIN:VEVENT
SUMMARY:Praha - Setkání s biotronikem
DTSTAMP:20120105T062210Z
SEQUENCE:2
UID:47-1-fa396657be6d70d2f2579beea8469132@www.veg.cz
ORGANIZER;CN="Martin":info@veg.cz
DESCRIPTION:\nTomáš Pfeiffer - Setkání s biotronikem\n\n\n\n17:00 PR
	AHA\, Sál JZ\, Soukenická 21\n\n\n\nZveme vás na společné zamyšlení
	 nad otázkami a záhadami života. Témata přednášek určují návš
	těvníci sami\, a to svými dotazy. Tyto se mohou týkat velmi rozmanitý
	ch oblastí života\, jako je biotronická prevence\, filosofie a jiné. O
	kruh otázek\, které se v Univerzitě Bytí objeví\, je tedy nesmírn
	ě široký. Jsou to otázky osudu\, smyslu života\, nauka o vznikání\,
	 celkově otázky filosofie Bytí\, a to i s dopady do hmotných oborů. V
	stupné je dobrovolné. Na závěr přednášek proběhne biotronické p
	ůsobení formou rozloučení.\n\n\n\nPoslední aktualizace termínů: 1. 
	1. 2012\n\nZměna programu vyhrazena.\n\nInformace na tel.: 222 311 141\n\
	ntermíny - nonstop tel.: 222 318 725\n\ne-mail: info@dub.cz\n\nwww: Aktu
	ální termíny přednášek\n
DTSTART:20120116T150000Z
END:VEVENT
END:VCALENDAR
