BEGIN:VCALENDAR
VERSION:2.0
PRODID:-//InvisionCommunity Events 5.0.12 Beta 2//EN
METHOD:PUBLISH
CALSCALE:GREGORIAN
REFRESH-INTERVAL:PT15M
X-PUBLISHED-TTL:PT15M
X-WR-CALNAME:Akce
NAME:Akce
BEGIN:VTIMEZONE
TZID:Europe/London
TZURL:https://tzurl.org/zoneinfo/Europe/London
X-LIC-LOCATION:Europe/London
BEGIN:DAYLIGHT
TZOFFSETFROM:+0000
TZOFFSETTO:+0100
TZNAME:BST
DTSTART:20120325T020000Z
RRULE:FREQ=YEARLY;BYMONTH=3;BYDAY=-1SU
END:DAYLIGHT
BEGIN:STANDARD
TZOFFSETFROM:+0100
TZOFFSETTO:+0000
TZNAME:GMT
DTSTART:20121028T020000Z
RRULE:FREQ=YEARLY;BYMONTH=10;BYDAY=-1SU
END:STANDARD
END:VTIMEZONE
BEGIN:VEVENT
SUMMARY:Jablonec n. N. - Setkání s biotronikem
DTSTAMP:20120105T062711Z
SEQUENCE:2
UID:48-1-fa396657be6d70d2f2579beea8469132@www.veg.cz
ORGANIZER;CN="Martin":info@veg.cz
DESCRIPTION:\nTomáš Pfeiffer - Setkání s biotronikem\n\n\n\n18:00 JA
	BLONEC NAD NISOU\, Centrum sociálních služeb\, Emilie Floriánové 8\n\
	n\n\nZveme vás na společné zamyšlení nad otázkami a záhadami živo
	ta. Témata přednášek určují návštěvníci sami\, a to svými dotaz
	y. Tyto se mohou týkat velmi rozmanitých oblastí života\, jako je biot
	ronická prevence\, filosofie a jiné. Okruh otázek\, které se v Univer
	zitě Bytí objeví\, je tedy nesmírně široký. Jsou to otázky osudu\,
	 smyslu života\, nauka o vznikání\, celkově otázky filosofie Bytí\, 
	a to i s dopady do hmotných oborů. Vstupné je dobrovolné. Na závě
	r přednášek proběhne biotronické působení formou rozloučení.\n\n\
	n\nPoslední aktualizace termínů: 1. 1. 2012\n\nZměna programu vyhrazen
	a.\n\nInformace na tel.: 222 311 141\n\ntermíny - nonstop tel.: 222 318 7
	25\n\ne-mail: info@dub.cz\n\nwww: Aktuální termíny přednášek\n
DTSTART:20120117T160000Z
END:VEVENT
END:VCALENDAR
