BEGIN:VCALENDAR
VERSION:2.0
PRODID:-//InvisionCommunity Events 5.0.12 Beta 2//EN
METHOD:PUBLISH
CALSCALE:GREGORIAN
REFRESH-INTERVAL:PT15M
X-PUBLISHED-TTL:PT15M
X-WR-CALNAME:Akce
NAME:Akce
BEGIN:VTIMEZONE
TZID:Europe/London
TZURL:https://tzurl.org/zoneinfo/Europe/London
X-LIC-LOCATION:Europe/London
BEGIN:DAYLIGHT
TZOFFSETFROM:+0000
TZOFFSETTO:+0100
TZNAME:BST
DTSTART:20110327T020000Z
RRULE:FREQ=YEARLY;BYMONTH=3;BYDAY=-1SU
END:DAYLIGHT
BEGIN:STANDARD
TZOFFSETFROM:+0100
TZOFFSETTO:+0000
TZNAME:GMT
DTSTART:20111030T020000Z
RRULE:FREQ=YEARLY;BYMONTH=10;BYDAY=-1SU
END:STANDARD
END:VTIMEZONE
BEGIN:VEVENT
SUMMARY:Setkání s biotronikem
DTSTAMP:20110811T171311Z
SEQUENCE:0
UID:7-1-fa396657be6d70d2f2579beea8469132@www.veg.cz
ORGANIZER;CN="Martin":info@veg.cz
DESCRIPTION:\nTomáš Pfeiffer - Setkání s biotronikem\n\n\n\n\n\n09.0
	0    ZLÍN\, budova CTP REAL (bývalý Centroprojekt)\, Štefánikova 167\
	, (za kostelem)\n\n14.45    BRNO\, Bílý dům\, Žerotínovo nám. 6\n\n1
	7.00    ZNOJMO\, Agrodům\, Dvořákova 21\n\n\n\nZveme vás na společn
	é zamyšlení nad otázkami a záhadami života. Témata přednáše
	k určují návštěvníci sami\, a to svými dotazy. Tyto se mohou týkat
	 velmi rozmanitých oblastí života\, jako je biotronická prevence\, fil
	osofie a jiné. Okruh otázek\, které se v Univerzitě Bytí objeví\, je
	 tedy nesmírně široký. Jsou to otázky osudu\, smyslu života\, nauka 
	o vznikání\, celkově otázky filosofie Bytí\, a to i s dopady do hmot
	ných oborů. Vstupné je dobrovolné. Na závěr přednášek proběhne 
	biotronické působení formou rozloučení.\n\n\n\nPoslední aktualizace
	 termínů: 15. 7. 2011\n\nZměna programu vyhrazena.\n\nInformace na tel.
	: 222 311 141 \n\ntermíny - nonstop tel.: 222 318 725 \n\ne-mail: info@du
	b.cz\n
DTSTART:20110925T070000Z
END:VEVENT
END:VCALENDAR
